BEGIN:VCALENDAR
PRODID:-//Gerber PropertiesCalendar
VERSION:2.0
METHOD:PUBLISH
BEGIN:VEVENT
URL:http://gerberproperties.com.au/1P1056
ORGANIZER:info@gerberproperties.com.au
DTSTART:20210224T094500
DTEND:20210224T100000
LOCATION:3/47 Burfitt Street,  Leichhardt
DTSTAMP:20210224T140902
SUMMARY:Gerber Properties Open House - 3/47 Burfitt Street,  Leichhardt
DESCRIPTION:Open House: 3/47 Burfitt Street,  Leichhardt 
Wednesday 09:45-10:00 AM
Click the link for full listing information:http://gerberproperties.com.au/1P1056
CLASS:PUBLIC
BEGIN:VALARM
TRIGGER:-PT1D
ACTION:DISPLAY
DESCRIPTION:Reminder
END:VALARM
END:VEVENT
END:VCALENDAR