BEGIN:VCALENDAR
PRODID:-//Gerber PropertiesCalendar
VERSION:2.0
METHOD:PUBLISH
BEGIN:VEVENT
URL:http://gerberproperties.com.au/1P1055
ORGANIZER:info@gerberproperties.com.au
DTSTART:20210313T120000
DTEND:20210313T123000
LOCATION:31 Lincoln Street,  Stanmore
DTSTAMP:20210224T140122
SUMMARY:Gerber Properties Open House - 31 Lincoln Street,  Stanmore
DESCRIPTION:Open House: 31 Lincoln Street,  Stanmore 
Saturday 12:00-12:30 PM
Click the link for full listing information:http://gerberproperties.com.au/1P1055
CLASS:PUBLIC
BEGIN:VALARM
TRIGGER:-PT1D
ACTION:DISPLAY
DESCRIPTION:Reminder
END:VALARM
END:VEVENT
END:VCALENDAR