BEGIN:VCALENDAR
PRODID:-//Gerber PropertiesCalendar
VERSION:2.0
METHOD:PUBLISH
BEGIN:VEVENT
URL:http://gerberproperties.com.au/1P1054
ORGANIZER:info@gerberproperties.com.au
DTSTART:20210303T130000
DTEND:20210303T133000
LOCATION:53 Salisbury Road,  Stanmore
DTSTAMP:20210224T140052
SUMMARY:Gerber Properties Open House - 53 Salisbury Road,  Stanmore
DESCRIPTION:Open House: 53 Salisbury Road,  Stanmore 
Wednesday 01:00-01:30 PM
Click the link for full listing information:http://gerberproperties.com.au/1P1054
CLASS:PUBLIC
BEGIN:VALARM
TRIGGER:-PT1D
ACTION:DISPLAY
DESCRIPTION:Reminder
END:VALARM
END:VEVENT
END:VCALENDAR