BEGIN:VCALENDAR
PRODID:-//Gerber PropertiesCalendar
VERSION:2.0
METHOD:PUBLISH
BEGIN:VEVENT
URL:http://gerberproperties.com.au/1P1052
ORGANIZER:info@gerberproperties.com.au
DTSTART:20210227T110000
DTEND:20210227T113000
LOCATION:103a Newington Road,  Marrickville
DTSTAMP:20210224T140030
SUMMARY:Gerber Properties Open House - 103a Newington Road,  Marrickville
DESCRIPTION:Open House: 103a Newington Road,  Marrickville 
Saturday 11:00-11:30 AM
Click the link for full listing information:http://gerberproperties.com.au/1P1052
CLASS:PUBLIC
BEGIN:VALARM
TRIGGER:-PT1D
ACTION:DISPLAY
DESCRIPTION:Reminder
END:VALARM
END:VEVENT
END:VCALENDAR