BEGIN:VCALENDAR
PRODID:-//Gerber PropertiesCalendar
VERSION:2.0
METHOD:PUBLISH
BEGIN:VEVENT
URL:http://gerberproperties.com.au/1P1053
ORGANIZER:info@gerberproperties.com.au
DTSTART:20210302T170000
DTEND:20210302T173000
LOCATION:39 Baltic Street,  Newtown
DTSTAMP:20210224T140048
SUMMARY:Gerber Properties Open House - 39 Baltic Street,  Newtown
DESCRIPTION:Open House: 39 Baltic Street,  Newtown 
Tuesday 05:00-05:30 PM
Click the link for full listing information:http://gerberproperties.com.au/1P1053
CLASS:PUBLIC
BEGIN:VALARM
TRIGGER:-PT1D
ACTION:DISPLAY
DESCRIPTION:Reminder
END:VALARM
END:VEVENT
END:VCALENDAR