BEGIN:VCALENDAR
PRODID:-//Gerber PropertiesCalendar
VERSION:2.0
METHOD:PUBLISH
BEGIN:VEVENT
URL:http://gerberproperties.com.au/1P1054
ORGANIZER:info@gerberproperties.com.au
DTSTART:20210320T153000
DTEND:
LOCATION:53 Salisbury Road,  Stanmore
DTSTAMP:20210224T140141
SUMMARY:Gerber Properties Auction - 53 Salisbury Road,  Stanmore
DESCRIPTION:Auction: 53 Salisbury Road,  Stanmore 
Saturday 03:30 PM
Click the link for full listing information:http://gerberproperties.com.au/1P1054
CLASS:PUBLIC
BEGIN:VALARM
TRIGGER:-PT1D
ACTION:DISPLAY
DESCRIPTION:Reminder
END:VALARM
END:VEVENT
END:VCALENDAR