BEGIN:VCALENDAR
PRODID:-//Gerber PropertiesCalendar
VERSION:2.0
METHOD:PUBLISH
BEGIN:VEVENT
URL:http://gerberproperties.com.au/1P1052
ORGANIZER:info@gerberproperties.com.au
DTSTART:20210306T150000
DTEND:
LOCATION:103a Newington Road,  Marrickville
DTSTAMP:20210224T140135
SUMMARY:Gerber Properties Auction - 103a Newington Road,  Marrickville
DESCRIPTION:Auction: 103a Newington Road,  Marrickville 
Saturday 03:00 PM
Click the link for full listing information:http://gerberproperties.com.au/1P1052
CLASS:PUBLIC
BEGIN:VALARM
TRIGGER:-PT1D
ACTION:DISPLAY
DESCRIPTION:Reminder
END:VALARM
END:VEVENT
END:VCALENDAR